BEGIN:VCALENDAR
VERSION:2.0
PRODID:-//Cascade Horse Shows - ECPv6.15.20//NONSGML v1.0//EN
CALSCALE:GREGORIAN
METHOD:PUBLISH
X-WR-CALNAME:Cascade Horse Shows
X-ORIGINAL-URL:https://www.cascadehorseshows.com
X-WR-CALDESC:Events for Cascade Horse Shows
REFRESH-INTERVAL;VALUE=DURATION:PT1H
X-Robots-Tag:noindex
X-PUBLISHED-TTL:PT1H
BEGIN:VTIMEZONE
TZID:America/Los_Angeles
BEGIN:DAYLIGHT
TZOFFSETFROM:-0800
TZOFFSETTO:-0700
TZNAME:PDT
DTSTART:20180311T100000
END:DAYLIGHT
BEGIN:STANDARD
TZOFFSETFROM:-0700
TZOFFSETTO:-0800
TZNAME:PST
DTSTART:20181104T090000
END:STANDARD
BEGIN:DAYLIGHT
TZOFFSETFROM:-0800
TZOFFSETTO:-0700
TZNAME:PDT
DTSTART:20190310T100000
END:DAYLIGHT
BEGIN:STANDARD
TZOFFSETFROM:-0700
TZOFFSETTO:-0800
TZNAME:PST
DTSTART:20191103T090000
END:STANDARD
BEGIN:DAYLIGHT
TZOFFSETFROM:-0800
TZOFFSETTO:-0700
TZNAME:PDT
DTSTART:20200308T100000
END:DAYLIGHT
BEGIN:STANDARD
TZOFFSETFROM:-0700
TZOFFSETTO:-0800
TZNAME:PST
DTSTART:20201101T090000
END:STANDARD
END:VTIMEZONE
BEGIN:VEVENT
DTSTART;VALUE=DATE:20190619
DTEND;VALUE=DATE:20190624
DTSTAMP:20260421T013523
CREATED:20190112T225434Z
LAST-MODIFIED:20230423T044421Z
UID:1805-1560902400-1561334399@www.cascadehorseshows.com
SUMMARY:2019 Alpine Preview
DESCRIPTION:5-Day USEF Hunter Jumper Horse Show\n[Rating Here] \n\n\n\nSpotlight Events\n\n$9\,999 Horseware Grand Prix 1.30m\n\nPresented by The Absolute Horse\n\n\n$2\,500 USHJA National Hunter Derby\n\nPresented by Brick Road Farms\n\n\n$1\,000 USHJA Green Hunter Challenge\n\nPresented by Olson’s Tack Shop\n\n\nNo Joke\, Hold My Coke Classic\n\nPresented by Long Farms\nA fun team class for the under 21 set!\n\n\nUp & Coming Stars Leadline\n\nPresented by Cypress Farm\n\n\nHorsemanship Challenge\n\nPresented by Northwest School of Animal Massage\n\n\nWoodbrook Hunter Pace\n\nPresented by Woodbrook Hunt Club\n\n\nFree VIP Hospitality and Visitors Parties\n\nIncluding the Karaoke Classic presented by Absolute Hunters & Jumpers\n\n\n\n\nRequirements For Entry\n\n 	Entrants in rated competition must have valid\, active USEF and USHJA memberships or pay a show pass fee. (Outreach-only exhibitors exempted.)\n 	Completion of USEF Safe Sport Training is required for adults (18 years and older) when participating in USEF rated activities. (Outreach only exhibitors exempted.) See the FAQ for more details.\n 	Microchipping: All horses competing in USEF-licensed and/or USHJA sanctioned competitions must be microchipped to compete. Exception: USHJA Outreach classes\, USEF Opportunity classes\, leadline\, and walk-trot do not have to be microchipped. See the FAQ for more information about the microchipping requirement.\n\nEntries\nOnce entries have opened\, use these convenient options:\n\n 	Enter online via:\n\n 	Cascade Horse Shows web site\n 	HorseShowing.com\n 	EquestrianConnect.com\n\n\n\nStall\, RV Site and Other Requests\n\n 	Requests can be made conveniently online from our Competitor Resources page\n\nTIP! Fill out your forms electronically in Adobe Reader or other PDF software\, then save and email the finished form to us!\n\nTo easily fill out a form on your iPhone or iPad\, tap the Share icon in Safari and then choose Copy to Acrobat. (Get Acrobat free from the App Store or from Google Play)
URL:https://www.cascadehorseshows.com/event/2019-alpine-preview/
LOCATION:Washington State Horse Park\, 1202 Douglas Munro Blvd.\, Cle Elum\, WA\, 98922\, United States
CATEGORIES:Show
ATTACH;FMTTYPE=image/jpeg:https://www.cascadehorseshows.com/wp/wp-content/uploads/2019/07/Voth-190713-400.jpg
END:VEVENT
END:VCALENDAR