BEGIN:VCALENDAR
VERSION:2.0
PRODID:-//Cascade Horse Shows - ECPv6.15.20//NONSGML v1.0//EN
CALSCALE:GREGORIAN
METHOD:PUBLISH
X-WR-CALNAME:Cascade Horse Shows
X-ORIGINAL-URL:https://www.cascadehorseshows.com
X-WR-CALDESC:Events for Cascade Horse Shows
REFRESH-INTERVAL;VALUE=DURATION:PT1H
X-Robots-Tag:noindex
X-PUBLISHED-TTL:PT1H
BEGIN:VTIMEZONE
TZID:America/Los_Angeles
BEGIN:DAYLIGHT
TZOFFSETFROM:-0800
TZOFFSETTO:-0700
TZNAME:PDT
DTSTART:20210314T100000
END:DAYLIGHT
BEGIN:STANDARD
TZOFFSETFROM:-0700
TZOFFSETTO:-0800
TZNAME:PST
DTSTART:20211107T090000
END:STANDARD
BEGIN:DAYLIGHT
TZOFFSETFROM:-0800
TZOFFSETTO:-0700
TZNAME:PDT
DTSTART:20220313T100000
END:DAYLIGHT
BEGIN:STANDARD
TZOFFSETFROM:-0700
TZOFFSETTO:-0800
TZNAME:PST
DTSTART:20221106T090000
END:STANDARD
BEGIN:DAYLIGHT
TZOFFSETFROM:-0800
TZOFFSETTO:-0700
TZNAME:PDT
DTSTART:20230312T100000
END:DAYLIGHT
BEGIN:STANDARD
TZOFFSETFROM:-0700
TZOFFSETTO:-0800
TZNAME:PST
DTSTART:20231105T090000
END:STANDARD
END:VTIMEZONE
BEGIN:VEVENT
DTSTART;VALUE=DATE:20220713
DTEND;VALUE=DATE:20220718
DTSTAMP:20260420T013712
CREATED:20211228T005819Z
LAST-MODIFIED:20230423T042610Z
UID:10795-1657670400-1658102399@www.cascadehorseshows.com
SUMMARY:2022 Pacific Crest Open
DESCRIPTION:5-Day USEF Hunter Jumper Horse Show\n[Rating Here] \n[Close Date] \nIncludes USHJA-sanctioned Outreach classes. \n\n\n\nSpotlight and Featured Classes\nLearn more about our Spotlight ClassesReminder: 4 and 5-year-old horses may show free!\n\n$1\,500 USHJA National Hunter Derby\nPresented by BRICK ROAD FARMS\n$2\,000 Pacesetter Mini-Prix\nPresented by PACESETTER PROPERTIES TEAM\n$1\,000 USHJA Green Hunter Challenge 3’ or 3’3”\nPresented by OLSON’S TACK SHOP\n$1\,000 Luxury DerbyCross™ 3’-3’3” | 1.00m-1.05m\nPresented by BELUXARI EQ\n$500 Junior/Amateur Hunt & Handy\nPresented by HELITE Equestrian\nRising Stars™ Leadline\nPresented by KERRITS EQUESTRIAN\n$750 Need for Speed™ Open Jumper 1.10 or 1.20m\nPresented by VOLTAIRE DESIGN\n$1\,000 Cascade Welcome 1.20m\nThis class is included in the Jumper 1.20m section\nFree VIP Hospitality and Visitor Parties\n\n\nRequirements For Entry\n\n 	Entrants in rated competition must have valid\, active USEF and USHJA memberships or pay a show pass fee. (Outreach-only exhibitors exempted.)\n 	Completion of USEF Safe Sport Training is required for adults (18 years and older) when participating in USEF rated activities. (Outreach only exhibitors exempted.) See the FAQ for more details.\n 	Microchipping: All horses competing in USEF-licensed and/or USHJA sanctioned competitions must be microchipped to compete. Exception: USHJA Outreach classes\, USEF Opportunity classes\, leadline\, and walk-trot do not have to be microchipped. See the FAQ for more information about the microchipping requirement.\n\nEntries\nOnce entries have opened\, use these convenient options:\n\n 	Enter online via:\n\n 	Cascade Horse Shows web site\n 	HorseShowing.com\n 	EquestrianConnect.com\n\n\n\nStall\, RV Site and Other Requests\n\n 	Requests can be made conveniently online from our Competitor Resources page
URL:https://www.cascadehorseshows.com/event/2022-pacific-crest-open/
LOCATION:Washington State Horse Park\, 1202 Douglas Munro Blvd.\, Cle Elum\, WA\, 98922\, United States
CATEGORIES:Show v2
ATTACH;FMTTYPE=image/jpeg:https://www.cascadehorseshows.com/wp/wp-content/uploads/2021/12/Voth-210716-0294.jpg
END:VEVENT
END:VCALENDAR