BEGIN:VCALENDAR
VERSION:2.0
PRODID:-//Cascade Horse Shows - ECPv6.15.20//NONSGML v1.0//EN
CALSCALE:GREGORIAN
METHOD:PUBLISH
X-ORIGINAL-URL:https://www.cascadehorseshows.com
X-WR-CALDESC:Events for Cascade Horse Shows
REFRESH-INTERVAL;VALUE=DURATION:PT1H
X-Robots-Tag:noindex
X-PUBLISHED-TTL:PT1H
BEGIN:VTIMEZONE
TZID:America/Los_Angeles
BEGIN:DAYLIGHT
TZOFFSETFROM:-0800
TZOFFSETTO:-0700
TZNAME:PDT
DTSTART:20200308T100000
END:DAYLIGHT
BEGIN:STANDARD
TZOFFSETFROM:-0700
TZOFFSETTO:-0800
TZNAME:PST
DTSTART:20201101T090000
END:STANDARD
BEGIN:DAYLIGHT
TZOFFSETFROM:-0800
TZOFFSETTO:-0700
TZNAME:PDT
DTSTART:20210314T100000
END:DAYLIGHT
BEGIN:STANDARD
TZOFFSETFROM:-0700
TZOFFSETTO:-0800
TZNAME:PST
DTSTART:20211107T090000
END:STANDARD
BEGIN:DAYLIGHT
TZOFFSETFROM:-0800
TZOFFSETTO:-0700
TZNAME:PDT
DTSTART:20220313T100000
END:DAYLIGHT
BEGIN:STANDARD
TZOFFSETFROM:-0700
TZOFFSETTO:-0800
TZNAME:PST
DTSTART:20221106T090000
END:STANDARD
END:VTIMEZONE
BEGIN:VEVENT
DTSTART;VALUE=DATE:20210623
DTEND;VALUE=DATE:20210628
DTSTAMP:20260419T151413
CREATED:20201017T160426Z
LAST-MODIFIED:20230423T043431Z
UID:7660-1624406400-1624838399@www.cascadehorseshows.com
SUMMARY:2021 Alpine Preview
DESCRIPTION:5-Day USEF Hunter Jumper Horse Show\n[Rating Here] \n\n\n\nSpotlight Events\nLearn more about our Spotlight ClassesReminder: 4 and 5-year-old horses may show free!\n\n$9\,999 Horseware Grand Prix 1.30m\n\nPresented by The Absolute Horse\n\n\n$2\,500 USHJA National Hunter Derby\n\nPresented by Brick Road Farms\n\n\n$1\,000 USHJA Green Hunter Challenge\n\nPresented by Olson’s Tack Shop\n\n\n$1\,000 Luxury DerbyCross™\n\nOur fan-favorite hunter & jumper crossover event is back\, presented by Beluxari Eq.\n\n\n$1\,000 USHJA Jumper Classic Series\n\nPresented by the Ansara Patterson and Geneva Financial \n\n\nRosé All Day Amateur Classic\n\nPresented by The Watson Group\nCompete in a real hunter hack while holding a glass of rosé wine.. Don’t spill it!\n\n\nVoltaire Need for Speed™ Open Jumper\n\nPresented by Voltaire Design\nWin $500 worth of Voltaire Design accessories!\n\n\n$500 Junior / Amateur Hunt & Handy\n\nPresented by Smokey Wood Farm\n\n\nNo Joke\, Hold My Coke Classic\n\nPresented by Burkwood Farms\nA fun team class for the under 21 set!\n\n\nRising Stars™ Leadline\nFree VIP Hospitality and Visitors Parties\n\nPresented by Wilco Purina\, Pacesetter Properties\, and Magnolia Ridge\n\n\n\n\nRequirements For Entry\n\n 	Entrants in rated competition must have valid\, active USEF and USHJA memberships or pay a show pass fee. (Outreach-only exhibitors exempted.)\n 	Completion of USEF Safe Sport Training is required for adults (18 years and older) when participating in USEF rated activities. (Outreach only exhibitors exempted.) See the FAQ for more details.\n 	Microchipping: All horses competing in USEF-licensed and/or USHJA sanctioned competitions must be microchipped to compete. Exception: USHJA Outreach classes\, USEF Opportunity classes\, leadline\, and walk-trot do not have to be microchipped. See the FAQ for more information about the microchipping requirement.\n\nEntries\nOnce entries have opened\, use these convenient options:\n\n 	Enter online via:\n\n 	Cascade Horse Shows web site\n 	HorseShowing.com\n 	EquestrianConnect.com\n\n\n\nStall\, RV Site and Other Requests\n\n 	Requests can be made conveniently online from our Competitor Resources page
URL:https://www.cascadehorseshows.com/event/2021-alpine-preview/
LOCATION:Washington State Horse Park\, 1202 Douglas Munro Blvd.\, Cle Elum\, WA\, 98922\, United States
CATEGORIES:Show v2
ATTACH;FMTTYPE=image/jpeg:https://www.cascadehorseshows.com/wp/wp-content/uploads/2019/07/Voth-190621-767.jpg
END:VEVENT
BEGIN:VEVENT
DTSTART;VALUE=DATE:20210616
DTEND;VALUE=DATE:20210621
DTSTAMP:20260419T151413
CREATED:20201017T160142Z
LAST-MODIFIED:20230423T043543Z
UID:7658-1623801600-1624233599@www.cascadehorseshows.com
SUMMARY:2021 Swiftwater Invitational
DESCRIPTION:5-Day USEF Hunter Jumper Horse Show\n[Rating Here] \n\n\n\nSpotlight Events\nLearn more about our Spotlight ClassesReminder: 4 and 5-year-old horses may show free!\n\n$5\,000 Whittier Trust Welcome Prix 1.30m\n\nPresented by Whittier Trust\n\n\n$2\,500 USHJA National Hunter Derby\n\nPresented by Brick Road Farms\n\n\n$1\,000 Luxury DerbyCross™\n\nOur fan-favorite hunter & jumper crossover event is back\, presented by Beluxari Eq.\n\n\n$1\,000 USHJA Jumper Classic Series\n\nPresented by the Ansara Patterson and Geneva Financial \n\n\nRosé All Day Amateur Classic\n\nPresented by The Watson Group\nCompete in a real hunter hack while holding a glass of rosé wine.. Don’t spill it!\n\n\n$1\,000 USHJA Green Hunter Challenge\n\nPresented by Olson’s Tack Shop\n\n\nVoltaire Need for Speed™ Open Jumper\n\nPresented by Voltaire Design\nWin $500 in Voltaire Design accessories!\n\n\n$750 Capt. Morgan Pro-Am Challenge\n\nTeam relay jumper event presented by Encanto Valley Farm\n\n\n$500 Junior / Amateur Hunt & Handy\n\nPresented by Smokey Wood Farm\n\n\nParents on Parade™ Leadline\n\nPresented by Equidae Farm\n\n\nFree VIP Hospitality and Visitors Parties\n\nPresented by Wilco Purina\, Pacesetter Properties\, Equidae Farm\, and Magnolia Ridge \n\n\n\n\nRequirements For Entry\n\n 	Entrants in rated competition must have valid\, active USEF and USHJA memberships or pay a show pass fee. (Outreach-only exhibitors exempted.)\n 	Completion of USEF Safe Sport Training is required for adults (18 years and older) when participating in USEF rated activities. (Outreach only exhibitors exempted.) See the FAQ for more details.\n 	Microchipping: All horses competing in USEF-licensed and/or USHJA sanctioned competitions must be microchipped to compete. Exception: USHJA Outreach classes\, USEF Opportunity classes\, leadline\, and walk-trot do not have to be microchipped. See the FAQ for more information about the microchipping requirement.\n\nEntries\nOnce entries have opened\, use these convenient options:\n\n 	Enter online via:\n\n 	Cascade Horse Shows web site\n 	HorseShowing.com\n 	EquestrianConnect.com\n\n\n\nStall\, RV Site and Other Requests\n\n 	Requests can be made conveniently online from our Competitor Resources page
URL:https://www.cascadehorseshows.com/event/2021-swiftwater-invitational/
LOCATION:Washington State Horse Park\, 1202 Douglas Munro Blvd.\, Cle Elum\, WA\, 98922\, United States
CATEGORIES:Show v2
ATTACH;FMTTYPE=image/jpeg:https://www.cascadehorseshows.com/wp/wp-content/uploads/2020/10/Voth-190613-054.jpg
END:VEVENT
END:VCALENDAR